BEGIN:VCALENDAR
VERSION:2.0
PRODID:-//TMSA - ECPv5.16.4//NONSGML v1.0//EN
CALSCALE:GREGORIAN
METHOD:PUBLISH
X-WR-CALNAME:TMSA
X-ORIGINAL-URL:https://www.tmsa.scot
X-WR-CALDESC:Events for TMSA
BEGIN:VTIMEZONE
TZID:Europe/London
BEGIN:DAYLIGHT
TZOFFSETFROM:+0000
TZOFFSETTO:+0100
TZNAME:BST
DTSTART:20220327T010000
END:DAYLIGHT
BEGIN:STANDARD
TZOFFSETFROM:+0100
TZOFFSETTO:+0000
TZNAME:GMT
DTSTART:20221030T010000
END:STANDARD
END:VTIMEZONE
BEGIN:VEVENT
DTSTART;VALUE=DATE:20220708
DTEND;VALUE=DATE:20220711
DTSTAMP:20260424T101155
CREATED:20211210T004024Z
LAST-MODIFIED:20211210T004024Z
UID:3553-1657238400-1657497599@www.tmsa.scot
SUMMARY:32nd Stonehaven Festival
DESCRIPTION:Celebrating its 32nd year—Friendly weekend of Concerts\, Ceilidh\, Sessions\, Singarounds\, Workshops\, Family events\, Tradition Bearers\, World Paper’n’comb Championships and\, traditionally\, an aqua ceilidh! Please visit website for latest information on artists and tickets.
URL:https://www.tmsa.scot/event/32nd-stonehaven-festival
LOCATION:TBC\, United Kingdom
END:VEVENT
END:VCALENDAR