BEGIN:VCALENDAR
VERSION:2.0
PRODID:-//TMSA - ECPv5.16.4//NONSGML v1.0//EN
CALSCALE:GREGORIAN
METHOD:PUBLISH
X-WR-CALNAME:TMSA
X-ORIGINAL-URL:https://www.tmsa.scot
X-WR-CALDESC:Events for TMSA
BEGIN:VTIMEZONE
TZID:Europe/London
BEGIN:DAYLIGHT
TZOFFSETFROM:+0000
TZOFFSETTO:+0100
TZNAME:BST
DTSTART:20220327T010000
END:DAYLIGHT
BEGIN:STANDARD
TZOFFSETFROM:+0100
TZOFFSETTO:+0000
TZNAME:GMT
DTSTART:20221030T010000
END:STANDARD
END:VTIMEZONE
BEGIN:VEVENT
DTSTART;VALUE=DATE:20220703
DTEND;VALUE=DATE:20220709
DTSTAMP:20260420T072300
CREATED:20220518T221731Z
LAST-MODIFIED:20220518T221731Z
UID:3707-1656806400-1657324799@www.tmsa.scot
SUMMARY:Ceòlas Uibhist Summer School 2022
DESCRIPTION:The annual Ceòlas Summer School will take place from the 3rd to the 8th of July in South Uist. With classes in Gaelic language and song\, fiddle\, piping and dancing\, and with some of the best tutors from Scotland to Cape Breton\, this years’ Summer School is guaranteed to be full of fun\, music and craic on the year Ceòlas returns to South Uist!\nFor all the info on this years’ Summer School and to register\, visit www.ceolas.co.uk
URL:https://www.tmsa.scot/event/ceolas-uibhist-summer-school-2022
END:VEVENT
END:VCALENDAR