BEGIN:VCALENDAR
VERSION:2.0
PRODID:-//TMSA - ECPv5.16.4//NONSGML v1.0//EN
CALSCALE:GREGORIAN
METHOD:PUBLISH
X-WR-CALNAME:TMSA
X-ORIGINAL-URL:https://www.tmsa.scot
X-WR-CALDESC:Events for TMSA
BEGIN:VTIMEZONE
TZID:Europe/London
BEGIN:DAYLIGHT
TZOFFSETFROM:+0000
TZOFFSETTO:+0100
TZNAME:BST
DTSTART:20220327T010000
END:DAYLIGHT
BEGIN:STANDARD
TZOFFSETFROM:+0100
TZOFFSETTO:+0000
TZNAME:GMT
DTSTART:20221030T010000
END:STANDARD
END:VTIMEZONE
BEGIN:VEVENT
DTSTART;VALUE=DATE:20220903
DTEND;VALUE=DATE:20220904
DTSTAMP:20260419T130856
CREATED:20220730T205518Z
LAST-MODIFIED:20220730T205518Z
UID:3748-1662163200-1662249599@www.tmsa.scot
SUMMARY:Glasgow Shanty Festival
DESCRIPTION:Glasgow Shanty Festival RETURNS!\n\n\n\nSat 3rd September\, aboard the Tall Ship Glenlee.\n\n\nOne exciting day of shanties\, music and stories. An afternoon of FREE entertainment—story-telling and workshops—before an evening concert.\n\n\nGet your tickets here: https://bit.ly/3oFEJxh
URL:https://www.tmsa.scot/event/glasgow-shanty-festival
LOCATION:The Tall Ship Glenlee\, 150 Pointhouse Rd\, Stobcross Rd\, Govan\, Glasgow\, G3 8RS\, United Kingdom
END:VEVENT
END:VCALENDAR