BEGIN:VCALENDAR
VERSION:2.0
PRODID:-//TMSA - ECPv5.16.4//NONSGML v1.0//EN
CALSCALE:GREGORIAN
METHOD:PUBLISH
X-WR-CALNAME:TMSA
X-ORIGINAL-URL:https://www.tmsa.scot
X-WR-CALDESC:Events for TMSA
BEGIN:VTIMEZONE
TZID:Europe/London
BEGIN:DAYLIGHT
TZOFFSETFROM:+0000
TZOFFSETTO:+0100
TZNAME:BST
DTSTART:20220327T010000
END:DAYLIGHT
BEGIN:STANDARD
TZOFFSETFROM:+0100
TZOFFSETTO:+0000
TZNAME:GMT
DTSTART:20221030T010000
END:STANDARD
END:VTIMEZONE
BEGIN:VEVENT
DTSTART;VALUE=DATE:20220713
DTEND;VALUE=DATE:20220717
DTSTAMP:20260420T012251
CREATED:20220715T205817Z
LAST-MODIFIED:20220715T205817Z
UID:3740-1657670400-1658015999@www.tmsa.scot
SUMMARY:HebCelt Festival
DESCRIPTION:The multi-award winning Hebridean Celtic Festival (HebCelt) has been a key feature in the cultural landscape of the Outer Hebrides since 1996. This internationally renowned event has a unique setting in the Scottish Hebridean island of Lewis\, the heartland of the Gaelic language and culture. Its welcoming and friendly atmosphere reflects the ethos of the dedicated team of volunteers who have created a festival with global appeal and a strong community identity. HebCelt passionately protects and promotes its heritage\, including the vibrant Gaelic and traditional music that is both part of its history and its contemporary life. It mixes the best local talent with leading Scottish\, UK and world artists and brings together household names and emerging talent to provide a feast of music to appeal to all ages. The result is a diverse blend of sights and sounds that is true to Celtic traditions but also welcoming to new ideas and influences.
URL:https://www.tmsa.scot/event/hebcelt-festival
LOCATION:Various Venues
END:VEVENT
END:VCALENDAR