BEGIN:VCALENDAR
VERSION:2.0
PRODID:-//TMSA - ECPv5.16.4//NONSGML v1.0//EN
CALSCALE:GREGORIAN
METHOD:PUBLISH
X-WR-CALNAME:TMSA
X-ORIGINAL-URL:https://www.tmsa.scot
X-WR-CALDESC:Events for TMSA
BEGIN:VTIMEZONE
TZID:Europe/London
BEGIN:DAYLIGHT
TZOFFSETFROM:+0000
TZOFFSETTO:+0100
TZNAME:BST
DTSTART:20260329T010000
END:DAYLIGHT
BEGIN:STANDARD
TZOFFSETFROM:+0100
TZOFFSETTO:+0000
TZNAME:GMT
DTSTART:20261025T010000
END:STANDARD
END:VTIMEZONE
BEGIN:VEVENT
DTSTART;VALUE=DATE:20260612
DTEND;VALUE=DATE:20260615
DTSTAMP:20260424T235023
CREATED:20240227T152350Z
LAST-MODIFIED:20250904T185257Z
UID:4556-1781222400-1781481599@www.tmsa.scot
SUMMARY:Keith Festival
DESCRIPTION:TMSA Keith Branch’s annual traditional music festival with ceilidhs\, concerts\, competitions and informal sessions.\nTel. 01542 882 638
URL:https://www.tmsa.scot/event/keith-festival-4
LOCATION:Various Venues
CATEGORIES:Keith Branch
ORGANIZER;CN="TMSA%20Keith%20Branch":MAILTO:kilvrecht21@aol.com
END:VEVENT
END:VCALENDAR