BEGIN:VCALENDAR
VERSION:2.0
PRODID:-//TMSA - ECPv5.16.4//NONSGML v1.0//EN
CALSCALE:GREGORIAN
METHOD:PUBLISH
X-WR-CALNAME:TMSA
X-ORIGINAL-URL:https://www.tmsa.scot
X-WR-CALDESC:Events for TMSA
BEGIN:VTIMEZONE
TZID:Europe/London
BEGIN:DAYLIGHT
TZOFFSETFROM:+0000
TZOFFSETTO:+0100
TZNAME:BST
DTSTART:20220327T010000
END:DAYLIGHT
BEGIN:STANDARD
TZOFFSETFROM:+0100
TZOFFSETTO:+0000
TZNAME:GMT
DTSTART:20221030T010000
END:STANDARD
END:VTIMEZONE
BEGIN:VEVENT
DTSTART;VALUE=DATE:20220827
DTEND;VALUE=DATE:20220905
DTSTAMP:20260421T104117
CREATED:20211210T020628Z
LAST-MODIFIED:20211210T020628Z
UID:3561-1661558400-1662335999@www.tmsa.scot
SUMMARY:Largs Viking Festival
DESCRIPTION:Living history 13th Century Viking Village\, Owl Magic and Scottish Food and Craft Markets. Aerobatic displays\, street performers and on-stage entertainment at weekends. Viking Festival of Fire with torch-lit procession\, Viking skirmish\, burning of symbolic Viking longship and firework display.
URL:https://www.tmsa.scot/event/largs-viking-festival-2
LOCATION:Various Venues
END:VEVENT
END:VCALENDAR