BEGIN:VCALENDAR
VERSION:2.0
PRODID:-//TMSA - ECPv5.16.4//NONSGML v1.0//EN
CALSCALE:GREGORIAN
METHOD:PUBLISH
X-WR-CALNAME:TMSA
X-ORIGINAL-URL:https://www.tmsa.scot
X-WR-CALDESC:Events for TMSA
BEGIN:VTIMEZONE
TZID:Europe/London
BEGIN:DAYLIGHT
TZOFFSETFROM:+0000
TZOFFSETTO:+0100
TZNAME:BST
DTSTART:20220327T010000
END:DAYLIGHT
BEGIN:STANDARD
TZOFFSETFROM:+0100
TZOFFSETTO:+0000
TZNAME:GMT
DTSTART:20221030T010000
END:STANDARD
END:VTIMEZONE
BEGIN:VEVENT
DTSTART;VALUE=DATE:20220708
DTEND;VALUE=DATE:20220711
DTSTAMP:20260420T040310
CREATED:20211210T005004Z
LAST-MODIFIED:20211210T010105Z
UID:3555-1657238400-1657497599@www.tmsa.scot
SUMMARY:Newton Stewart & Minnigaff Traditional Music & Dance Festival
DESCRIPTION:Traditional music & dance festival in the heart of Galloway. Concerts\, workshops\, sessions\, solo piping competition\, Highland dancing competition\, local beer & gin and much more! Check the event website for more details of the 2022 festival.
URL:https://www.tmsa.scot/event/newton-stewart-minnigaff-traditional-music-dance-festival-2
LOCATION:TBC\, United Kingdom
END:VEVENT
END:VCALENDAR