BEGIN:VCALENDAR
VERSION:2.0
PRODID:-//TMSA - ECPv5.16.4//NONSGML v1.0//EN
CALSCALE:GREGORIAN
METHOD:PUBLISH
X-WR-CALNAME:TMSA
X-ORIGINAL-URL:https://www.tmsa.scot
X-WR-CALDESC:Events for TMSA
BEGIN:VTIMEZONE
TZID:Europe/London
BEGIN:DAYLIGHT
TZOFFSETFROM:+0000
TZOFFSETTO:+0100
TZNAME:BST
DTSTART:20220327T010000
END:DAYLIGHT
BEGIN:STANDARD
TZOFFSETFROM:+0100
TZOFFSETTO:+0000
TZNAME:GMT
DTSTART:20221030T010000
END:STANDARD
END:VTIMEZONE
BEGIN:VEVENT
DTSTART;VALUE=DATE:20220806
DTEND;VALUE=DATE:20220815
DTSTAMP:20260419T180814
CREATED:20220730T191412Z
LAST-MODIFIED:20220730T191412Z
UID:3743-1659744000-1660521599@www.tmsa.scot
SUMMARY:Piping Live!
DESCRIPTION:Glasgow International Piping Festival returns from 6-14th August with a host of fantastic in-person and livestreamed events.
URL:https://www.tmsa.scot/event/piping-live-3
LOCATION:Various Venues
END:VEVENT
END:VCALENDAR