BEGIN:VCALENDAR
VERSION:2.0
PRODID:-//TMSA - ECPv5.16.4//NONSGML v1.0//EN
CALSCALE:GREGORIAN
METHOD:PUBLISH
X-WR-CALNAME:TMSA
X-ORIGINAL-URL:https://www.tmsa.scot
X-WR-CALDESC:Events for TMSA
BEGIN:VTIMEZONE
TZID:Europe/London
BEGIN:DAYLIGHT
TZOFFSETFROM:+0000
TZOFFSETTO:+0100
TZNAME:BST
DTSTART:20260329T010000
END:DAYLIGHT
BEGIN:STANDARD
TZOFFSETFROM:+0100
TZOFFSETTO:+0000
TZNAME:GMT
DTSTART:20261025T010000
END:STANDARD
END:VTIMEZONE
BEGIN:VEVENT
DTSTART;VALUE=DATE:20260522
DTEND;VALUE=DATE:20260524
DTSTAMP:20260424T204720
CREATED:20240227T151142Z
LAST-MODIFIED:20250701T085659Z
UID:4545-1779408000-1779580799@www.tmsa.scot
SUMMARY:Strichen Festival
DESCRIPTION:The Buchan Heritage Festival at Strichen is one of the finest places to appreciate our rich tradition of music\, song\, verse\, drama and story\, and\, at the same time\, enjoy listening to\, or using\, the broad ‘Doric’ language which is still very much alive here in the North East\, and enjoy a friendly family atmosphere where contestants have come from a’ the airt’s and pairt’s o’ Scotland and sometimes beyond. \nThe 2026 Strichen Festival will take place on the Friday 22nd and Saturday 23rd of May at the Ritchie Hall\, British Legion\, and Strichen Primary School in Strichen. \nhttp://buchanheritagesociety.co.uk/strichen-festival/\n \n\n\ninfo@buchanheritagesociety.co.uk
URL:https://www.tmsa.scot/event/strichen-festival-3
LOCATION:Ritchie Hall\, Strichen\, Aberdeenshire\, AB43 6TY
CATEGORIES:Festival
END:VEVENT
END:VCALENDAR