BEGIN:VCALENDAR
VERSION:2.0
PRODID:-//TMSA - ECPv5.16.4//NONSGML v1.0//EN
CALSCALE:GREGORIAN
METHOD:PUBLISH
X-WR-CALNAME:TMSA
X-ORIGINAL-URL:https://www.tmsa.scot
X-WR-CALDESC:Events for TMSA
BEGIN:VTIMEZONE
TZID:Europe/London
BEGIN:DAYLIGHT
TZOFFSETFROM:+0000
TZOFFSETTO:+0100
TZNAME:BST
DTSTART:20220327T010000
END:DAYLIGHT
BEGIN:STANDARD
TZOFFSETFROM:+0100
TZOFFSETTO:+0000
TZNAME:GMT
DTSTART:20221030T010000
END:STANDARD
END:VTIMEZONE
BEGIN:VEVENT
DTSTART;VALUE=DATE:20220701
DTEND;VALUE=DATE:20220828
DTSTAMP:20260420T090920
CREATED:20220211T202625Z
LAST-MODIFIED:20220211T202625Z
UID:3600-1656633600-1661644799@www.tmsa.scot
SUMMARY:Under Canvas at Eden Court\, Inverness
DESCRIPTION:Eden Court’s outdoor summer festival ‘Under Canvas’ is back this summer from 1 July–27 August 2022. Expect 42 days of live music\, performance and DJ sets on the lawn in Inverness!
URL:https://www.tmsa.scot/event/under-canvas-at-eden-court-inverness
LOCATION:Eden Court\, Bishops Rd\, Inverness\, Inverness-shire\, IV3 5SA\, United Kingdom
ORGANIZER;CN="Eden%20Court":MAILTO:boxoffice@eden-court.co.uk
END:VEVENT
END:VCALENDAR